BEGIN:VCALENDAR
VERSION:2.0
PRODID:-//Beauty&#039;s Haven Farm and Equine Rescue Inc. - ECPv6.15.20//NONSGML v1.0//EN
CALSCALE:GREGORIAN
METHOD:PUBLISH
X-ORIGINAL-URL:https://bhfer.org
X-WR-CALDESC:Events for Beauty&#039;s Haven Farm and Equine Rescue Inc.
REFRESH-INTERVAL;VALUE=DURATION:PT1H
X-Robots-Tag:noindex
X-PUBLISHED-TTL:PT1H
BEGIN:VTIMEZONE
TZID:America/New_York
BEGIN:DAYLIGHT
TZOFFSETFROM:-0500
TZOFFSETTO:-0400
TZNAME:EDT
DTSTART:20250309T070000
END:DAYLIGHT
BEGIN:STANDARD
TZOFFSETFROM:-0400
TZOFFSETTO:-0500
TZNAME:EST
DTSTART:20251102T060000
END:STANDARD
BEGIN:DAYLIGHT
TZOFFSETFROM:-0500
TZOFFSETTO:-0400
TZNAME:EDT
DTSTART:20260308T070000
END:DAYLIGHT
BEGIN:STANDARD
TZOFFSETFROM:-0400
TZOFFSETTO:-0500
TZNAME:EST
DTSTART:20261101T060000
END:STANDARD
BEGIN:DAYLIGHT
TZOFFSETFROM:-0500
TZOFFSETTO:-0400
TZNAME:EDT
DTSTART:20270314T070000
END:DAYLIGHT
BEGIN:STANDARD
TZOFFSETFROM:-0400
TZOFFSETTO:-0500
TZNAME:EST
DTSTART:20271107T060000
END:STANDARD
END:VTIMEZONE
BEGIN:VEVENT
DTSTART;VALUE=DATE:20260314
DTEND;VALUE=DATE:20260315
DTSTAMP:20260423T172642
CREATED:20241219T184752Z
LAST-MODIFIED:20260129T154624Z
UID:23780-1773446400-1773532799@bhfer.org
SUMMARY:8th Annual Ride for the Horses
DESCRIPTION:Date:  Saturday\, March 14\, 2026 \nTime:\nRegistration starts at 9 am\nRide starts at 10 am \nWhere:\nGoethe State Forest\nTidewater Trail\n12250 SE 137 Court\, Dunnellon\, FL 34431 \n  \nQuestions:  Contact Kathy at 516-319-3238.  Please share this out! \nRegistration:  Click here to register ($30 per person to ride and for lunch or $5 for non-riders lunch).  When filling out the form on the link or you can make your donation by scanning or clicking on the below QR Code.  Make sure in the “Notes” section to note that it is for the “Trail Ride”.  We hope to see you there! \n \n  \n  \n  \n  \nOverview:  Join us for a meaningful day on the trails at the 8th Annual Ride for Horses!  This special event brings together horse lovers\, families\, and supporters to raise essential funds for the horses of Beauty’s Haven Farm & Equine Rescue\, Inc.  All proceeds support the rescue\, rehabilitation\, feed\, medical care\, and daily needs of the 30 equines in our care.  Funds also help our equine-assisted outreach programs for people with special needs\, veterans\, and others who benefit from healing through horses. \nWARNING\nUnder Florida Law\, an equine activity ride sponsor\, or contact is not liable for an injury to\, or death of\, a participant in equine activities resulting from inherent risks of equine activities.
URL:https://bhfer.org/event/annual-ride-for-the-horses-2026/
LOCATION:Goethe State Forest – Tidewater Trailhead\, 12550 SE 137th Court\, Dunnellon\, Florida\, 34431
CATEGORIES:Beauty's Haven Events,Fundraiser,Trail Ride
ATTACH;FMTTYPE=image/png:https://bhfer.org/wp-content/uploads/2024/12/Screen-Shot-2024-12-18-at-8.21.05-PM.png
END:VEVENT
END:VCALENDAR