BEGIN:VCALENDAR
VERSION:2.0
PRODID:-//Beauty&#039;s Haven Farm and Equine Rescue Inc. - ECPv6.15.20//NONSGML v1.0//EN
CALSCALE:GREGORIAN
METHOD:PUBLISH
X-ORIGINAL-URL:https://bhfer.org
X-WR-CALDESC:Events for Beauty&#039;s Haven Farm and Equine Rescue Inc.
REFRESH-INTERVAL;VALUE=DURATION:PT1H
X-Robots-Tag:noindex
X-PUBLISHED-TTL:PT1H
BEGIN:VTIMEZONE
TZID:America/New_York
BEGIN:DAYLIGHT
TZOFFSETFROM:-0500
TZOFFSETTO:-0400
TZNAME:EDT
DTSTART:20230312T070000
END:DAYLIGHT
BEGIN:STANDARD
TZOFFSETFROM:-0400
TZOFFSETTO:-0500
TZNAME:EST
DTSTART:20231105T060000
END:STANDARD
BEGIN:DAYLIGHT
TZOFFSETFROM:-0500
TZOFFSETTO:-0400
TZNAME:EDT
DTSTART:20240310T070000
END:DAYLIGHT
BEGIN:STANDARD
TZOFFSETFROM:-0400
TZOFFSETTO:-0500
TZNAME:EST
DTSTART:20241103T060000
END:STANDARD
BEGIN:DAYLIGHT
TZOFFSETFROM:-0500
TZOFFSETTO:-0400
TZNAME:EDT
DTSTART:20250309T070000
END:DAYLIGHT
BEGIN:STANDARD
TZOFFSETFROM:-0400
TZOFFSETTO:-0500
TZNAME:EST
DTSTART:20251102T060000
END:STANDARD
END:VTIMEZONE
BEGIN:VEVENT
DTSTART;VALUE=DATE:20240302
DTEND;VALUE=DATE:20240303
DTSTAMP:20260425T071358
CREATED:20231006T164307Z
LAST-MODIFIED:20240108T193208Z
UID:22925-1709337600-1709423999@bhfer.org
SUMMARY:Annual Ride for the Horses
DESCRIPTION:Date:  Saturday\, March 2\, 2024 \nTime:\nRegistration starts at 9 am\nRide starts at 10 am \nWhere:\nGoethe State Forest\nTidewater Trail\n12250 SE 137 Street Dunnellon\, FL 34431 \nRegistration:  Sign up below. \nDonation amount:  $30 per rider \nThe donation ($30 per rider) can be made at bit.ly/48qUbCJ .  When filling out the form\, make sure in the “Notes” section to note that it is for the Trail Ride OR you can make your donation by scanning or clicking on the below QR Code.  Again\, make sure in the “Notes” section to note that it is for the Trail Ride.  We hope to see you there! \nRegistration Donation \n  \n  \n  \n  \n  \nSign Up\nPlease fill out and submit the form below.\nNOTE: NEGATIVE COGGINS REQUIRED \nPlease enable JavaScript in your browser to complete this form.Please enable JavaScript in your browser to complete this form.Your Name (Rider 1) *FirstLastPhone *Email *Number of Riders123456Rider 2 Name *FirstLastRider 3 Name *FirstLastRider 4 Name *FirstLastRider 5 Name *FirstLastRider 6 Name *FirstLastMessageSubmit  \n  \nWARNING\nUnder Florida Law\, an equine activity ride sponsor\, or contact is not liable for an injury to\, or death of\, a participant in equine activities resulting from inherent risks of equine activities.
URL:https://bhfer.org/event/annual-trail-ride-for-the-horses-2024/
LOCATION:Goethe State Forest – Tidewater Trailhead\, 12550 SE 137th Court\, Dunnellon\, Florida\, 34431
CATEGORIES:Beauty's Haven Events,Fundraiser,Trail Ride
ATTACH;FMTTYPE=image/jpeg:https://bhfer.org/wp-content/uploads/2020/02/4th-Annual-BHFER-Trail-Ride-web-crop.jpg
END:VEVENT
END:VCALENDAR